BEGIN:VCALENDAR
METHOD:PUBLISH
VERSION:2.0
PRODID:-//WoltLab GmbH//WoltLab Suite Calendar 5.4//EN
CALSCALE:GREGORIAN
X-WR-CALNAME;VALUE=TEXT:FC Schalke 04 - Hertha BSC
BEGIN:VEVENT
TRANSP:OPAQUE
UID:event-116@www.immenhof-kids.de
URL:https://www.immenhof-kids.de/calendar/event/95-fc-schalke-04-hertha-bsc
 /
DTSTART:20180902T160000Z
DTSTAMP:20180902T160000Z
CREATED:20180902T160000Z
SUMMARY:FC Schalke 04 - Hertha BSC
DESCRIPTION:Dieser Kalenderservice wird dir präsentiert von bundesliga.de2.
  SpieltagAnbieter-Impressum: https://www.bundesliga.com/de/bundesliga/info/
 impressum/calfeed löschen? Anleitung: bit.ly/calfeed_loeschen
LOCATION:VELTINS-Arena
DTEND:20180902T180000Z
END:VEVENT
END:VCALENDAR
