BEGIN:VCALENDAR
METHOD:PUBLISH
VERSION:2.0
PRODID:-//WoltLab GmbH//WoltLab Suite Calendar 5.4//EN
CALSCALE:GREGORIAN
X-WR-CALNAME;VALUE=TEXT:Bundesliga: 5 Spiele
BEGIN:VEVENT
TRANSP:OPAQUE
UID:event-118@www.immenhof-kids.de
URL:https://www.immenhof-kids.de/calendar/event/97-bundesliga-5-spiele/
DTSTART:20180915T133000Z
DTSTAMP:20180915T133000Z
CREATED:20180915T133000Z
SUMMARY:Bundesliga: 5 Spiele
DESCRIPTION:Dieser Kalenderservice wird dir präsentiert von bundesliga.deRB
  Leipzig - Hannover 96FC Bayern München - Bayer 04 LeverkusenFortuna Düssel
 dorf 1895 e.V. - TSG 1899 Hoffenheim1. FSV Mainz 05 - FC AugsburgVfL Wolfsb
 urg - Hertha BSCAnbieter-Impressum: https://www.bundesliga.com/de/bundeslig
 a/info/impressum/calfeed löschen? Anleitung: bit.ly/calfeed_loeschen
DTEND:20180915T153000Z
END:VEVENT
END:VCALENDAR
