BEGIN:VCALENDAR
METHOD:PUBLISH
VERSION:2.0
PRODID:-//WoltLab GmbH//WoltLab Suite Calendar 5.4//EN
CALSCALE:GREGORIAN
X-WR-CALNAME;VALUE=TEXT:Bundesliga: 3 Spiele
BEGIN:VEVENT
TRANSP:OPAQUE
UID:event-128@www.immenhof-kids.de
URL:https://www.immenhof-kids.de/calendar/event/107-bundesliga-3-spiele/
DTSTART:20180925T183000Z
DTSTAMP:20180925T183000Z
CREATED:20180925T183000Z
SUMMARY:Bundesliga: 3 Spiele
DESCRIPTION:Dieser Kalenderservice wird dir präsentiert von bundesliga.deFC
  Bayern München - FC AugsburgHannover 96 - TSG 1899 HoffenheimSport-Club Fr
 eiburg - FC Schalke 04Anbieter-Impressum: https://www.bundesliga.com/de/bun
 desliga/info/impressum/calfeed löschen? Anleitung: bit.ly/calfeed_loeschen
DTEND:20180925T203000Z
END:VEVENT
END:VCALENDAR
