BEGIN:VCALENDAR
METHOD:PUBLISH
VERSION:2.0
PRODID:-//WoltLab GmbH//WoltLab Suite Calendar 5.4//EN
CALSCALE:GREGORIAN
X-WR-CALNAME;VALUE=TEXT:Fortuna Düsseldorf 1895 e.V. - Bayer 04 Leverkusen
BEGIN:VEVENT
TRANSP:OPAQUE
UID:event-129@www.immenhof-kids.de
URL:https://www.immenhof-kids.de/calendar/event/108-fortuna-d%C3%BCsseldorf
 -1895-e-v-bayer-04-leverkusen/
DTSTART:20180926T163000Z
DTSTAMP:20180926T163000Z
CREATED:20180926T163000Z
SUMMARY:Fortuna Düsseldorf 1895 e.V. - Bayer 04 Leverkusen
DESCRIPTION:Dieser Kalenderservice wird dir präsentiert von bundesliga.de5.
  SpieltagAnbieter-Impressum: https://www.bundesliga.com/de/bundesliga/info/
 impressum/calfeed löschen? Anleitung: bit.ly/calfeed_loeschen
LOCATION:Merkur Spielarena
DTEND:20180926T183000Z
END:VEVENT
END:VCALENDAR
