BEGIN:VCALENDAR
METHOD:PUBLISH
VERSION:2.0
PRODID:-//WoltLab GmbH//WoltLab Suite Calendar 5.4//EN
CALSCALE:GREGORIAN
X-WR-CALNAME;VALUE=TEXT:Bundesliga: 4 Spiele
BEGIN:VEVENT
TRANSP:OPAQUE
UID:event-130@www.immenhof-kids.de
URL:https://www.immenhof-kids.de/calendar/event/109-bundesliga-4-spiele/
DTSTART:20180926T183000Z
DTSTAMP:20180926T183000Z
CREATED:20180926T183000Z
SUMMARY:Bundesliga: 4 Spiele
DESCRIPTION:Dieser Kalenderservice wird dir präsentiert von bundesliga.deBo
 russia Dortmund - 1. FC NürnbergRB Leipzig - VfB StuttgartBorussia Möncheng
 ladbach - Eintracht Frankfurt1. FSV Mainz 05 - VfL WolfsburgAnbieter-Impres
 sum: https://www.bundesliga.com/de/bundesliga/info/impressum/calfeed lösche
 n? Anleitung: bit.ly/calfeed_loeschen
DTEND:20180926T203000Z
END:VEVENT
END:VCALENDAR
