BEGIN:VCALENDAR
METHOD:PUBLISH
VERSION:2.0
PRODID:-//WoltLab GmbH//WoltLab Suite Calendar 5.4//EN
CALSCALE:GREGORIAN
X-WR-CALNAME;VALUE=TEXT:FC Augsburg - Sport-Club Freiburg
BEGIN:VEVENT
TRANSP:OPAQUE
UID:event-135@www.immenhof-kids.de
URL:https://www.immenhof-kids.de/calendar/event/114-fc-augsburg-sport-club-
 freiburg/
DTSTART:20180930T160000Z
DTSTAMP:20180930T160000Z
CREATED:20180930T160000Z
SUMMARY:FC Augsburg - Sport-Club Freiburg
DESCRIPTION:Dieser Kalenderservice wird dir präsentiert von bundesliga.de6.
  SpieltagAnbieter-Impressum: https://www.bundesliga.com/de/bundesliga/info/
 impressum/calfeed löschen? Anleitung: bit.ly/calfeed_loeschen
LOCATION:WWK ARENA
DTEND:20180930T180000Z
END:VEVENT
END:VCALENDAR
