BEGIN:VCALENDAR
METHOD:PUBLISH
VERSION:2.0
PRODID:-//WoltLab GmbH//WoltLab Suite Calendar 5.4//EN
CALSCALE:GREGORIAN
X-WR-CALNAME;VALUE=TEXT:Bundesliga: 9 Spiele
BEGIN:VEVENT
TRANSP:OPAQUE
UID:event-141@www.immenhof-kids.de
URL:https://www.immenhof-kids.de/calendar/event/120-bundesliga-9-spiele/
DTSTART:20181122T230000Z
DTSTAMP:20181122T230000Z
CREATED:20181122T230000Z
SUMMARY:Bundesliga: 9 Spiele
DESCRIPTION:Dieser Kalenderservice wird dir präsentiert von bundesliga.de* 
 FC Schalke 04 - 1. FC Nürnberg* Bayer 04 Leverkusen - VfB Stuttgart* Boruss
 ia Mönchengladbach - Hannover 96* Hertha BSC - TSG 1899 Hoffenheim* FC Augs
 burg - Eintracht Frankfurt* Sport-Club Freiburg - SV Werder Bremen* 1. FSV 
 Mainz 05 - Borussia Dortmund* FC Bayern München - Fortuna Düsseldorf 1895 e
 .V.* VfL Wolfsburg - RB LeipzigAnbieter-Impressum: https://www.bundesliga.c
 om/de/bundesliga/info/impressum/calfeed löschen? Anleitung: bit.ly/calfeed_
 loeschen
DTEND:20181125T230000Z
END:VEVENT
END:VCALENDAR
