BEGIN:VCALENDAR
METHOD:PUBLISH
VERSION:2.0
PRODID:-//WoltLab GmbH//WoltLab Suite Calendar 5.4//EN
CALSCALE:GREGORIAN
X-WR-CALNAME;VALUE=TEXT:Bundesliga: 9 Spiele
BEGIN:VEVENT
TRANSP:OPAQUE
UID:event-142@www.immenhof-kids.de
URL:https://www.immenhof-kids.de/calendar/event/121-bundesliga-9-spiele/
DTSTART:20181129T230000Z
DTSTAMP:20181129T230000Z
CREATED:20181129T230000Z
SUMMARY:Bundesliga: 9 Spiele
DESCRIPTION:Dieser Kalenderservice wird dir präsentiert von bundesliga.de* 
 Borussia Dortmund - Sport-Club Freiburg* RB Leipzig - Borussia Mönchengladb
 ach* VfB Stuttgart - FC Augsburg* TSG 1899 Hoffenheim - FC Schalke 04* Eint
 racht Frankfurt - VfL Wolfsburg* 1. FC Nürnberg - Bayer 04 Leverkusen* SV W
 erder Bremen - FC Bayern München* Hannover 96 - Hertha BSC* Fortuna Düsseld
 orf 1895 e.V. - 1. FSV Mainz 05Anbieter-Impressum: https://www.bundesliga.c
 om/de/bundesliga/info/impressum/calfeed löschen? Anleitung: bit.ly/calfeed_
 loeschen
DTEND:20181203T230000Z
END:VEVENT
END:VCALENDAR
