BEGIN:VCALENDAR
METHOD:PUBLISH
VERSION:2.0
PRODID:-//WoltLab GmbH//WoltLab Suite Calendar 5.4//EN
CALSCALE:GREGORIAN
X-WR-CALNAME;VALUE=TEXT:Bundesliga: 9 Spiele
BEGIN:VEVENT
TRANSP:OPAQUE
UID:event-143@www.immenhof-kids.de
URL:https://www.immenhof-kids.de/calendar/event/122-bundesliga-9-spiele/
DTSTART:20181206T230000Z
DTSTAMP:20181206T230000Z
CREATED:20181206T230000Z
SUMMARY:Bundesliga: 9 Spiele
DESCRIPTION:Dieser Kalenderservice wird dir präsentiert von bundesliga.de* 
 FC Schalke 04 - Borussia Dortmund* Bayer 04 Leverkusen - FC Augsburg* Borus
 sia Mönchengladbach - VfB Stuttgart* Hertha BSC - Eintracht Frankfurt* SV W
 erder Bremen - Fortuna Düsseldorf 1895 e.V.* Sport-Club Freiburg - RB Leipz
 ig* 1. FSV Mainz 05 - Hannover 96* FC Bayern München - 1. FC Nürnberg* VfL 
 Wolfsburg - TSG 1899 HoffenheimAnbieter-Impressum: https://www.bundesliga.c
 om/de/bundesliga/info/impressum/calfeed löschen? Anleitung: bit.ly/calfeed_
 loeschen
DTEND:20181209T230000Z
END:VEVENT
END:VCALENDAR
