BEGIN:VCALENDAR
METHOD:PUBLISH
VERSION:2.0
PRODID:-//WoltLab GmbH//WoltLab Suite Calendar 5.4//EN
CALSCALE:GREGORIAN
X-WR-CALNAME;VALUE=TEXT:Bundesliga: 9 Spiele
BEGIN:VEVENT
TRANSP:OPAQUE
UID:event-145@www.immenhof-kids.de
URL:https://www.immenhof-kids.de/calendar/event/124-bundesliga-9-spiele/
DTSTART:20181217T230000Z
DTSTAMP:20181217T230000Z
CREATED:20181217T230000Z
SUMMARY:Bundesliga: 9 Spiele
DESCRIPTION:Dieser Kalenderservice wird dir präsentiert von bundesliga.de* 
 FC Schalke 04 - Bayer 04 Leverkusen* Borussia Mönchengladbach - 1. FC Nürnb
 erg* Hertha BSC - FC Augsburg* FC Bayern München - RB Leipzig* SV Werder Br
 emen - TSG 1899 Hoffenheim* Fortuna Düsseldorf 1895 e.V. - Borussia Dortmun
 d* Sport-Club Freiburg - Hannover 96* 1. FSV Mainz 05 - Eintracht Frankfurt
 * VfL Wolfsburg - VfB StuttgartAnbieter-Impressum: https://www.bundesliga.c
 om/de/bundesliga/info/impressum/calfeed löschen? Anleitung: bit.ly/calfeed_
 loeschen
DTEND:20181219T230000Z
END:VEVENT
END:VCALENDAR
