BEGIN:VCALENDAR
METHOD:PUBLISH
VERSION:2.0
PRODID:-//WoltLab GmbH//WoltLab Suite Calendar 5.4//EN
CALSCALE:GREGORIAN
X-WR-CALNAME;VALUE=TEXT:Bundesliga: 9 Spiele
BEGIN:VEVENT
TRANSP:OPAQUE
UID:event-147@www.immenhof-kids.de
URL:https://www.immenhof-kids.de/calendar/event/126-bundesliga-9-spiele/
DTSTART:20190117T230000Z
DTSTAMP:20190117T230000Z
CREATED:20190117T230000Z
SUMMARY:Bundesliga: 9 Spiele
DESCRIPTION:Dieser Kalenderservice wird dir präsentiert von bundesliga.de* 
 TSG 1899 Hoffenheim - FC Bayern München* Bayer 04 Leverkusen - Borussia Mön
 chengladbach* RB Leipzig - Borussia Dortmund* FC Schalke 04 - VfL Wolfsburg
 * VfB Stuttgart - 1. FSV Mainz 05* 1. FC Nürnberg - Hertha BSC* Eintracht F
 rankfurt - Sport-Club Freiburg* FC Augsburg - Fortuna Düsseldorf 1895 e.V.*
  Hannover 96 - SV Werder BremenAnbieter-Impressum: https://www.bundesliga.c
 om/de/bundesliga/info/impressum/calfeed löschen? Anleitung: bit.ly/calfeed_
 loeschen
DTEND:20190121T230000Z
END:VEVENT
END:VCALENDAR
