BEGIN:VCALENDAR
METHOD:PUBLISH
VERSION:2.0
PRODID:-//WoltLab GmbH//WoltLab Suite Calendar 5.4//EN
CALSCALE:GREGORIAN
X-WR-CALNAME;VALUE=TEXT:Bundesliga: 9 Spiele
BEGIN:VEVENT
TRANSP:OPAQUE
UID:event-150@www.immenhof-kids.de
URL:https://www.immenhof-kids.de/calendar/event/129-bundesliga-9-spiele/
DTSTART:20190207T230000Z
DTSTAMP:20190207T230000Z
CREATED:20190207T230000Z
SUMMARY:Bundesliga: 9 Spiele
DESCRIPTION:Dieser Kalenderservice wird dir präsentiert von bundesliga.de* 
 Borussia Dortmund - TSG 1899 Hoffenheim* RB Leipzig - Eintracht Frankfurt* 
 Borussia Mönchengladbach - Hertha BSC* SV Werder Bremen - FC Augsburg* Hann
 over 96 - 1. FC Nürnberg* Sport-Club Freiburg - VfL Wolfsburg* 1. FSV Mainz
  05 - Bayer 04 Leverkusen* FC Bayern München - FC Schalke 04* Fortuna Düsse
 ldorf 1895 e.V. - VfB StuttgartAnbieter-Impressum: https://www.bundesliga.c
 om/de/bundesliga/info/impressum/calfeed löschen? Anleitung: bit.ly/calfeed_
 loeschen
DTEND:20190211T230000Z
END:VEVENT
END:VCALENDAR
