BEGIN:VCALENDAR
METHOD:PUBLISH
VERSION:2.0
PRODID:-//WoltLab GmbH//WoltLab Suite Calendar 5.4//EN
CALSCALE:GREGORIAN
X-WR-CALNAME;VALUE=TEXT:Bundesliga: 9 Spiele
BEGIN:VEVENT
TRANSP:OPAQUE
UID:event-156@www.immenhof-kids.de
URL:https://www.immenhof-kids.de/calendar/event/135-bundesliga-9-spiele/
DTSTART:20190328T230000Z
DTSTAMP:20190328T230000Z
CREATED:20190328T230000Z
SUMMARY:Bundesliga: 9 Spiele
DESCRIPTION:Dieser Kalenderservice wird dir präsentiert von bundesliga.de* 
 Borussia Dortmund - VfL Wolfsburg* RB Leipzig - Hertha BSC* Eintracht Frank
 furt - VfB Stuttgart* TSG 1899 Hoffenheim - Bayer 04 Leverkusen* SV Werder 
 Bremen - 1. FSV Mainz 05* 1. FC Nürnberg - FC Augsburg* Hannover 96 - FC Sc
 halke 04* Sport-Club Freiburg - FC Bayern München* Fortuna Düsseldorf 1895 
 e.V. - Borussia MönchengladbachAnbieter-Impressum: https://www.bundesliga.c
 om/de/bundesliga/info/impressum/calfeed löschen? Anleitung: bit.ly/calfeed_
 loeschen
DTEND:20190401T220000Z
END:VEVENT
END:VCALENDAR
