BEGIN:VCALENDAR
METHOD:PUBLISH
VERSION:2.0
PRODID:-//WoltLab GmbH//WoltLab Suite Calendar 5.4//EN
CALSCALE:GREGORIAN
X-WR-CALNAME;VALUE=TEXT:Bundesliga: 9 Spiele
BEGIN:VEVENT
TRANSP:OPAQUE
UID:event-158@www.immenhof-kids.de
URL:https://www.immenhof-kids.de/calendar/event/137-bundesliga-9-spiele/
DTSTART:20190411T220000Z
DTSTAMP:20190411T220000Z
CREATED:20190411T220000Z
SUMMARY:Bundesliga: 9 Spiele
DESCRIPTION:Dieser Kalenderservice wird dir präsentiert von bundesliga.de* 
 Borussia Dortmund - 1. FSV Mainz 05* RB Leipzig - VfL Wolfsburg* VfB Stuttg
 art - Bayer 04 Leverkusen* TSG 1899 Hoffenheim - Hertha BSC* Eintracht Fran
 kfurt - FC Augsburg* 1. FC Nürnberg - FC Schalke 04* SV Werder Bremen - Spo
 rt-Club Freiburg* Hannover 96 - Borussia Mönchengladbach* Fortuna Düsseldor
 f 1895 e.V. - FC Bayern MünchenAnbieter-Impressum: https://www.bundesliga.c
 om/de/bundesliga/info/impressum/calfeed löschen? Anleitung: bit.ly/calfeed_
 loeschen
DTEND:20190415T220000Z
END:VEVENT
END:VCALENDAR
