BEGIN:VCALENDAR
METHOD:PUBLISH
VERSION:2.0
PRODID:-//WoltLab GmbH//WoltLab Suite Calendar 5.4//EN
CALSCALE:GREGORIAN
X-WR-CALNAME;VALUE=TEXT:Bundesliga: 9 Spiele
BEGIN:VEVENT
TRANSP:OPAQUE
UID:event-159@www.immenhof-kids.de
URL:https://www.immenhof-kids.de/calendar/event/138-bundesliga-9-spiele/
DTSTART:20190419T220000Z
DTSTAMP:20190419T220000Z
CREATED:20190419T220000Z
SUMMARY:Bundesliga: 9 Spiele
DESCRIPTION:Dieser Kalenderservice wird dir präsentiert von bundesliga.de* 
 FC Schalke 04 - TSG 1899 Hoffenheim* Bayer 04 Leverkusen - 1. FC Nürnberg* 
 Borussia Mönchengladbach - RB Leipzig* Hertha BSC - Hannover 96* FC Augsbur
 g - VfB Stuttgart* Sport-Club Freiburg - Borussia Dortmund* 1. FSV Mainz 05
  - Fortuna Düsseldorf 1895 e.V.* FC Bayern München - SV Werder Bremen* VfL 
 Wolfsburg - Eintracht FrankfurtAnbieter-Impressum: https://www.bundesliga.c
 om/de/bundesliga/info/impressum/calfeed löschen? Anleitung: bit.ly/calfeed_
 loeschen
DTEND:20190422T220000Z
END:VEVENT
END:VCALENDAR
