BEGIN:VCALENDAR
METHOD:PUBLISH
VERSION:2.0
PRODID:-//WoltLab GmbH//WoltLab Suite Calendar 5.4//EN
CALSCALE:GREGORIAN
X-WR-CALNAME;VALUE=TEXT:Bundesliga: 9 Spiele
BEGIN:VEVENT
TRANSP:OPAQUE
UID:event-160@www.immenhof-kids.de
URL:https://www.immenhof-kids.de/calendar/event/139-bundesliga-9-spiele/
DTSTART:20190425T220000Z
DTSTAMP:20190425T220000Z
CREATED:20190425T220000Z
SUMMARY:Bundesliga: 9 Spiele
DESCRIPTION:Dieser Kalenderservice wird dir präsentiert von bundesliga.de* 
 Borussia Dortmund - FC Schalke 04* RB Leipzig - Sport-Club Freiburg* VfB St
 uttgart - Borussia Mönchengladbach* TSG 1899 Hoffenheim - VfL Wolfsburg* Ei
 ntracht Frankfurt - Hertha BSC* 1. FC Nürnberg - FC Bayern München* FC Augs
 burg - Bayer 04 Leverkusen* Hannover 96 - 1. FSV Mainz 05* Fortuna Düsseldo
 rf 1895 e.V. - SV Werder BremenAnbieter-Impressum: https://www.bundesliga.c
 om/de/bundesliga/info/impressum/calfeed löschen? Anleitung: bit.ly/calfeed_
 loeschen
DTEND:20190429T220000Z
END:VEVENT
END:VCALENDAR
