BEGIN:VCALENDAR
METHOD:PUBLISH
VERSION:2.0
PRODID:-//WoltLab GmbH//WoltLab Suite Calendar 5.4//EN
CALSCALE:GREGORIAN
X-WR-CALNAME;VALUE=TEXT:F1: Australien / Melbourne  auf Formel1.de
BEGIN:VEVENT
TRANSP:OPAQUE
UID:event-164@www.immenhof-kids.de
URL:https://www.immenhof-kids.de/calendar/event/143-f1-australien-melbourne
 -auf-formel1-de/
DTSTART:20180323T010000Z
DTSTAMP:20180323T010000Z
CREATED:20180323T010000Z
SUMMARY:F1: Australien / Melbourne  auf Formel1.de
DESCRIPTION:Jetzt hier im Liveticker:https://www.formel1.de/liveticker/form
 el-1-liveticker.phpInfos zum Event:https://www.formel1.de/formel-1-kalender
 /strecken/grosser-preis-von-australien-melbourneAlle Formel-1-Events im Übe
 rblick:https://www.formel1.de/formel-1-kalenderMehr Infos zum Formel1:https
 ://www.formel1.de
DTEND:20180325T051000Z
END:VEVENT
END:VCALENDAR
