BEGIN:VCALENDAR
METHOD:PUBLISH
VERSION:2.0
PRODID:-//WoltLab GmbH//WoltLab Suite Calendar 5.4//EN
CALSCALE:GREGORIAN
X-WR-CALNAME;VALUE=TEXT:F1: Bahrain / Sachir  auf Formel1.de
BEGIN:VEVENT
TRANSP:OPAQUE
UID:event-165@www.immenhof-kids.de
URL:https://www.immenhof-kids.de/calendar/event/144-f1-bahrain-sachir-auf-f
 ormel1-de/
DTSTART:20180406T110000Z
DTSTAMP:20180406T110000Z
CREATED:20180406T110000Z
SUMMARY:F1: Bahrain / Sachir  auf Formel1.de
DESCRIPTION:Jetzt hier im Liveticker:https://www.formel1.de/liveticker/form
 el-1-liveticker.phpInfos zum Event:https://www.formel1.de/formel-1-kalender
 /strecken/grosser-preis-von-bahrain-sachirAlle Formel-1-Events im Überblick
 :https://www.formel1.de/formel-1-kalenderMehr Infos zum Formel1:https://www
 .formel1.de
DTEND:20180408T151000Z
END:VEVENT
END:VCALENDAR
