BEGIN:VCALENDAR
METHOD:PUBLISH
VERSION:2.0
PRODID:-//WoltLab GmbH//WoltLab Suite Calendar 5.4//EN
CALSCALE:GREGORIAN
X-WR-CALNAME;VALUE=TEXT:F1: China / Schanghai  auf Formel1.de
BEGIN:VEVENT
TRANSP:OPAQUE
UID:event-166@www.immenhof-kids.de
URL:https://www.immenhof-kids.de/calendar/event/145-f1-china-schanghai-auf-
 formel1-de/
DTSTART:20180413T020000Z
DTSTAMP:20180413T020000Z
CREATED:20180413T020000Z
SUMMARY:F1: China / Schanghai  auf Formel1.de
DESCRIPTION:Jetzt hier im Liveticker:https://www.formel1.de/liveticker/form
 el-1-liveticker.phpInfos zum Event:https://www.formel1.de/formel-1-kalender
 /strecken/grosser-preis-von-china-schanghaiAlle Formel-1-Events im Überblic
 k:https://www.formel1.de/formel-1-kalenderMehr Infos zum Formel1:https://ww
 w.formel1.de
DTEND:20180415T061000Z
END:VEVENT
END:VCALENDAR
