BEGIN:VCALENDAR
METHOD:PUBLISH
VERSION:2.0
PRODID:-//WoltLab GmbH//WoltLab Suite Calendar 5.4//EN
CALSCALE:GREGORIAN
X-WR-CALNAME;VALUE=TEXT:F1: Aserbaidschan / Baku  auf Formel1.de
BEGIN:VEVENT
TRANSP:OPAQUE
UID:event-167@www.immenhof-kids.de
URL:https://www.immenhof-kids.de/calendar/event/146-f1-aserbaidschan-baku-a
 uf-formel1-de/
DTSTART:20180427T090000Z
DTSTAMP:20180427T090000Z
CREATED:20180427T090000Z
SUMMARY:F1: Aserbaidschan / Baku  auf Formel1.de
DESCRIPTION:Jetzt hier im Liveticker:https://www.formel1.de/liveticker/form
 el-1-liveticker.phpInfos zum Event:https://www.formel1.de/formel-1-kalender
 /strecken/baku-city-circuitAlle Formel-1-Events im Überblick:https://www.fo
 rmel1.de/formel-1-kalenderMehr Infos zum Formel1:https://www.formel1.de
DTEND:20180429T121000Z
END:VEVENT
END:VCALENDAR
