BEGIN:VCALENDAR
METHOD:PUBLISH
VERSION:2.0
PRODID:-//WoltLab GmbH//WoltLab Suite Calendar 5.4//EN
CALSCALE:GREGORIAN
X-WR-CALNAME;VALUE=TEXT:F1: Monaco / Monte Carlo  auf Formel1.de
BEGIN:VEVENT
TRANSP:OPAQUE
UID:event-169@www.immenhof-kids.de
URL:https://www.immenhof-kids.de/calendar/event/148-f1-monaco-monte-carlo-a
 uf-formel1-de/
DTSTART:20180524T090000Z
DTSTAMP:20180524T090000Z
CREATED:20180524T090000Z
SUMMARY:F1: Monaco / Monte Carlo  auf Formel1.de
DESCRIPTION:Jetzt hier im Liveticker:https://www.formel1.de/liveticker/form
 el-1-liveticker.phpInfos zum Event:https://www.formel1.de/formel-1-kalender
 /strecken/grosser-preis-von-monaco-monte-carloAlle Formel-1-Events im Überb
 lick:https://www.formel1.de/formel-1-kalenderMehr Infos zum Formel1:https:/
 /www.formel1.de
DTEND:20180527T131000Z
END:VEVENT
END:VCALENDAR
