BEGIN:VCALENDAR
METHOD:PUBLISH
VERSION:2.0
PRODID:-//WoltLab GmbH//WoltLab Suite Calendar 5.4//EN
CALSCALE:GREGORIAN
X-WR-CALNAME;VALUE=TEXT:F1: Österreich / Spielberg  auf Formel1.de
BEGIN:VEVENT
TRANSP:OPAQUE
UID:event-172@www.immenhof-kids.de
URL:https://www.immenhof-kids.de/calendar/event/151-f1-%C3%B6sterreich-spie
 lberg-auf-formel1-de/
DTSTART:20180629T090000Z
DTSTAMP:20180629T090000Z
CREATED:20180629T090000Z
SUMMARY:F1: Österreich / Spielberg  auf Formel1.de
DESCRIPTION:Jetzt hier im Liveticker:https://www.formel1.de/liveticker/form
 el-1-liveticker.phpInfos zum Event:https://www.formel1.de/formel-1-kalender
 /strecken/grosser-preis-von-oesterreich-spielbergAlle Formel-1-Events im Üb
 erblick:https://www.formel1.de/formel-1-kalenderMehr Infos zum Formel1:http
 s://www.formel1.de
DTEND:20180701T131000Z
END:VEVENT
END:VCALENDAR
