BEGIN:VCALENDAR
METHOD:PUBLISH
VERSION:2.0
PRODID:-//WoltLab GmbH//WoltLab Suite Calendar 5.4//EN
CALSCALE:GREGORIAN
X-WR-CALNAME;VALUE=TEXT:F1: Belgien / Spa-Francorchamps  auf Formel1.de
BEGIN:VEVENT
TRANSP:OPAQUE
UID:event-176@www.immenhof-kids.de
URL:https://www.immenhof-kids.de/calendar/event/155-f1-belgien-spa-francorc
 hamps-auf-formel1-de/
DTSTART:20180824T090000Z
DTSTAMP:20180824T090000Z
CREATED:20180824T090000Z
SUMMARY:F1: Belgien / Spa-Francorchamps  auf Formel1.de
DESCRIPTION:Jetzt hier im Liveticker:https://www.formel1.de/liveticker/form
 el-1-liveticker.phpInfos zum Event:https://www.formel1.de/formel-1-kalender
 /strecken/grosser-preis-von-belgien-spa-francorchampsAlle Formel-1-Events i
 m Überblick:https://www.formel1.de/formel-1-kalenderMehr Infos zum Formel1:
 https://www.formel1.de
DTEND:20180826T131000Z
END:VEVENT
END:VCALENDAR
