BEGIN:VCALENDAR
METHOD:PUBLISH
VERSION:2.0
PRODID:-//WoltLab GmbH//WoltLab Suite Calendar 5.4//EN
CALSCALE:GREGORIAN
X-WR-CALNAME;VALUE=TEXT:F1: Italien / Monza  auf Formel1.de
BEGIN:VEVENT
TRANSP:OPAQUE
UID:event-177@www.immenhof-kids.de
URL:https://www.immenhof-kids.de/calendar/event/156-f1-italien-monza-auf-fo
 rmel1-de/
DTSTART:20180831T090000Z
DTSTAMP:20180831T090000Z
CREATED:20180831T090000Z
SUMMARY:F1: Italien / Monza  auf Formel1.de
DESCRIPTION:Jetzt hier im Liveticker:https://www.formel1.de/liveticker/form
 el-1-liveticker.phpInfos zum Event:https://www.formel1.de/formel-1-kalender
 /strecken/grosser-preis-von-italien-monzaAlle Formel-1-Events im Überblick:
 https://www.formel1.de/formel-1-kalenderMehr Infos zum Formel1:https://www.
 formel1.de
DTEND:20180902T131000Z
END:VEVENT
END:VCALENDAR
