BEGIN:VCALENDAR
METHOD:PUBLISH
VERSION:2.0
PRODID:-//WoltLab GmbH//WoltLab Suite Calendar 5.4//EN
CALSCALE:GREGORIAN
X-WR-CALNAME;VALUE=TEXT:F1: Russland / Sotschi  auf Formel1.de
BEGIN:VEVENT
TRANSP:OPAQUE
UID:event-179@www.immenhof-kids.de
URL:https://www.immenhof-kids.de/calendar/event/158-f1-russland-sotschi-auf
 -formel1-de/
DTSTART:20180928T080000Z
DTSTAMP:20180928T080000Z
CREATED:20180928T080000Z
SUMMARY:F1: Russland / Sotschi  auf Formel1.de
DESCRIPTION:Jetzt hier im Liveticker:https://www.formel1.de/liveticker/form
 el-1-liveticker.phpInfos zum Event:https://www.formel1.de/formel-1-kalender
 /strecken/grosser-preis-von-russland-sotschiAlle Formel-1-Events im Überbli
 ck:https://www.formel1.de/formel-1-kalenderMehr Infos zum Formel1:https://w
 ww.formel1.de
DTEND:20180930T111000Z
END:VEVENT
END:VCALENDAR
