BEGIN:VCALENDAR
METHOD:PUBLISH
VERSION:2.0
PRODID:-//WoltLab GmbH//WoltLab Suite Calendar 5.4//EN
CALSCALE:GREGORIAN
X-WR-CALNAME;VALUE=TEXT:F1: USA / Austin  auf Formel1.de
BEGIN:VEVENT
TRANSP:OPAQUE
UID:event-181@www.immenhof-kids.de
URL:https://www.immenhof-kids.de/calendar/event/160-f1-usa-austin-auf-forme
 l1-de/
DTSTART:20181019T150000Z
DTSTAMP:20181019T150000Z
CREATED:20181019T150000Z
SUMMARY:F1: USA / Austin  auf Formel1.de
DESCRIPTION:Jetzt hier im Liveticker:https://www.formel1.de/liveticker/form
 el-1-liveticker.phpInfos zum Event:https://www.formel1.de/formel-1-kalender
 /strecken/grosser-preis-der-usa-austinAlle Formel-1-Events im Überblick:htt
 ps://www.formel1.de/formel-1-kalenderMehr Infos zum Formel1:https://www.for
 mel1.de
DTEND:20181021T181000Z
END:VEVENT
END:VCALENDAR
