BEGIN:VCALENDAR
METHOD:PUBLISH
VERSION:2.0
PRODID:-//WoltLab GmbH//WoltLab Suite Calendar 5.4//EN
CALSCALE:GREGORIAN
X-WR-CALNAME;VALUE=TEXT:WM: Uruguay – Russland
BEGIN:VEVENT
TRANSP:OPAQUE
UID:event-52@www.immenhof-kids.de
URL:https://www.immenhof-kids.de/calendar/event/31-wm-uruguay-russland/
DTSTART:20180625T140000Z
DTSTAMP:20180625T140000Z
CREATED:20180625T140000Z
SUMMARY:WM: Uruguay – Russland
DESCRIPTION:3. Spieltag\, Gruppe AiCal von http://www.wann-is-was.de
LOCATION:Samara
DTEND:20180625T154500Z
END:VEVENT
END:VCALENDAR
