BEGIN:VCALENDAR
METHOD:PUBLISH
VERSION:2.0
PRODID:-//WoltLab GmbH//WoltLab Suite Calendar 5.4//EN
CALSCALE:GREGORIAN
X-WR-CALNAME;VALUE=TEXT:WM: Sieger VF 1 – Sieger VF 2
BEGIN:VEVENT
TRANSP:OPAQUE
UID:event-57@www.immenhof-kids.de
URL:https://www.immenhof-kids.de/calendar/event/36-wm-sieger-vf-1-sieger-vf
 -2/
DTSTART:20180710T180000Z
DTSTAMP:20180710T180000Z
CREATED:20180710T180000Z
SUMMARY:WM: Sieger VF 1 – Sieger VF 2
DESCRIPTION:Halbfinale 1iCal von http://www.wann-is-was.de
LOCATION:Sankt Petersburg
DTEND:20180710T194500Z
END:VEVENT
END:VCALENDAR
