BEGIN:VCALENDAR
METHOD:PUBLISH
VERSION:2.0
PRODID:-//WoltLab GmbH//WoltLab Suite Calendar 5.4//EN
CALSCALE:GREGORIAN
X-WR-CALNAME;VALUE=TEXT:WM: Nigeria – Island
BEGIN:VEVENT
TRANSP:OPAQUE
UID:event-75@www.immenhof-kids.de
URL:https://www.immenhof-kids.de/calendar/event/54-wm-nigeria-island/
DTSTART:20180622T150000Z
DTSTAMP:20180622T150000Z
CREATED:20180622T150000Z
SUMMARY:WM: Nigeria – Island
DESCRIPTION:2. Spieltag\, Gruppe DiCal von http://www.wann-is-was.de
LOCATION:Wolgograd
DTEND:20180622T164500Z
END:VEVENT
END:VCALENDAR
