BEGIN:VCALENDAR
METHOD:PUBLISH
VERSION:2.0
PRODID:-//WoltLab GmbH//WoltLab Suite Calendar 5.4//EN
CALSCALE:GREGORIAN
X-WR-CALNAME;VALUE=TEXT:WM: Mexiko – Schweden
BEGIN:VEVENT
TRANSP:OPAQUE
UID:event-77@www.immenhof-kids.de
URL:https://www.immenhof-kids.de/calendar/event/56-wm-mexiko-schweden/
DTSTART:20180627T140000Z
DTSTAMP:20180627T140000Z
CREATED:20180627T140000Z
SUMMARY:WM: Mexiko – Schweden
DESCRIPTION:3. Spieltag\, Gruppe FiCal von http://www.wann-is-was.de
LOCATION:Jekaterinburg
DTEND:20180627T154500Z
END:VEVENT
END:VCALENDAR
