BEGIN:VCALENDAR
METHOD:PUBLISH
VERSION:2.0
PRODID:-//WoltLab GmbH//WoltLab Suite Calendar 5.4//EN
CALSCALE:GREGORIAN
X-WR-CALNAME;VALUE=TEXT:WM: England – Belgien
BEGIN:VEVENT
TRANSP:OPAQUE
UID:event-87@www.immenhof-kids.de
URL:https://www.immenhof-kids.de/calendar/event/66-wm-england-belgien/
DTSTART:20180628T180000Z
DTSTAMP:20180628T180000Z
CREATED:20180628T180000Z
SUMMARY:WM: England – Belgien
DESCRIPTION:3. Spieltag\, Gruppe GiCal von http://www.wann-is-was.de
LOCATION:Kaliningrad
DTEND:20180628T194500Z
END:VEVENT
END:VCALENDAR
