BEGIN:VCALENDAR
METHOD:PUBLISH
VERSION:2.0
PRODID:-//WoltLab GmbH//WoltLab Suite Calendar 5.4//EN
CALSCALE:GREGORIAN
X-WR-CALNAME;VALUE=TEXT:WM: Dänemark – Frankreich
BEGIN:VEVENT
TRANSP:OPAQUE
UID:event-88@www.immenhof-kids.de
URL:https://www.immenhof-kids.de/calendar/event/67-wm-d%C3%A4nemark-frankre
 ich/
DTSTART:20180626T140000Z
DTSTAMP:20180626T140000Z
CREATED:20180626T140000Z
SUMMARY:WM: Dänemark – Frankreich
DESCRIPTION:3. Spieltag\, Gruppe CiCal von http://www.wann-is-was.de
LOCATION:Luschniki
DTEND:20180626T154500Z
END:VEVENT
END:VCALENDAR
